BEGIN:VCALENDAR
VERSION:2.0
PRODID:-//Solc - ECPv6.3.5//NONSGML v1.0//EN
CALSCALE:GREGORIAN
METHOD:PUBLISH
X-WR-CALNAME:Solc
X-ORIGINAL-URL:https://asociacionsolc.com
X-WR-CALDESC:Eventos para Solc
REFRESH-INTERVAL;VALUE=DURATION:PT1H
X-Robots-Tag:noindex
X-PUBLISHED-TTL:PT1H
BEGIN:VTIMEZONE
TZID:UTC
BEGIN:STANDARD
TZOFFSETFROM:+0000
TZOFFSETTO:+0000
TZNAME:UTC
DTSTART:20190101T000000
END:STANDARD
END:VTIMEZONE
BEGIN:VEVENT
DTSTART;TZID=UTC:20211128T173000
DTEND;TZID=UTC:20211128T200000
DTSTAMP:20260421T105713
CREATED:20211116T114452Z
LAST-MODIFIED:20211116T114452Z
UID:13001-1638120600-1638129600@asociacionsolc.com
SUMMARY:GALA BENÉFICA Centro de Baile Pastora Sánchez
DESCRIPTION:El 28 de noviembre a las 17:30h os esperamos en el Teatro Río con la Gala de Danza a cargo del centro de Baile Pastora Sánchez en Ibi. \n  \nVenta anticipada en la Academia de Baile \n  \n  \nGRACIAS.
URL:https://asociacionsolc.com/evento/gala-benefica-centro-de-baile-pastora-sanchez/
END:VEVENT
BEGIN:VEVENT
DTSTART;TZID=UTC:20210915T193000
DTEND;TZID=UTC:20210915T210000
DTSTAMP:20260421T105713
CREATED:20210915T111610Z
LAST-MODIFIED:20210915T111610Z
UID:12984-1631734200-1631739600@asociacionsolc.com
SUMMARY:PRESENTACIÓN CALENDARIO 2022
DESCRIPTION:Solc presenta su nuevo calendario el miércoles 15 de septiembre a las 19:30h en la Sala Ágora de Alcoy. \n  \nGracias a Generali Club Platinum por apoyar de nuevo este proyecto \, a Rubén y Andrea por vuestra estimada colaboración
URL:https://asociacionsolc.com/evento/presentacion-calendario-2022/
LOCATION:Sala Ágora Alcoy
END:VEVENT
BEGIN:VEVENT
DTSTART;TZID=UTC:20210515T093000
DTEND;TZID=UTC:20210515T113000
DTSTAMP:20260421T105713
CREATED:20210429T125734Z
LAST-MODIFIED:20210429T125839Z
UID:12916-1621071000-1621078200@asociacionsolc.com
SUMMARY:I JORNADA SOLIDARIA "DEPORTE Y SALUD" 15 de mayo en las instalaciones del gimnasio Kiko Training
DESCRIPTION:APÚNTATE\, TE ESPERAMOS!! \nPasaremos una mañana muy divertida \nGracias Kiko Training y a todos los colaboradores!!
URL:https://asociacionsolc.com/evento/i-jornada-solidaria-deporte-y-salud-15-de-mayo-en-las-instalaciones-del-gimnasio-kiko-training/
END:VEVENT
BEGIN:VEVENT
DTSTART;TZID=UTC:20210210T080000
DTEND;TZID=UTC:20210210T170000
DTSTAMP:20260421T105713
CREATED:20210210T183733Z
LAST-MODIFIED:20210210T183748Z
UID:12881-1612944000-1612976400@asociacionsolc.com
SUMMARY:Compartimos el audio de una socia cargado con palabras de esperanza y crecimiento personal tras atravesar la enfermedad
DESCRIPTION:Gràcies Sara!! \n¡ Un ejemplo de superación! \n\nhttps://asociacionsolc.com/wp-content/uploads/2021/02/VID-20210204-WA0001.mp4
URL:https://asociacionsolc.com/evento/compartimos-el-audio-de-una-socia-cargado-con-palabras-de-esperanza-y-crecimiento-personal-tras-atravesar-la-enfermedad/
END:VEVENT
BEGIN:VEVENT
DTSTART;TZID=UTC:20210201T080000
DTEND;TZID=UTC:20210201T170000
DTSTAMP:20260421T105713
CREATED:20220421T114711Z
LAST-MODIFIED:20220421T114711Z
UID:13095-1612166400-1612198800@asociacionsolc.com
SUMMARY:Solc renueva el plan interno de calidad 2021-2022
DESCRIPTION:La junta directiva y el equipo técnico se reúnen a 30 de enero de 2021 con el fin de renovar el nuevo plan interno de calidad\, que garantiza y compromete a ambas partes a llevar a cabo los protocolos de actuación y actuar según lo establecido en el mismo. \n  \nPlan interno de calidad
URL:https://asociacionsolc.com/evento/solc-renueva-el-plan-interno-de-calidad-2021-2022/
END:VEVENT
BEGIN:VEVENT
DTSTART;TZID=UTC:20210115T080000
DTEND;TZID=UTC:20210115T170000
DTSTAMP:20260421T105713
CREATED:20220201T132211Z
LAST-MODIFIED:20220201T132211Z
UID:13048-1610697600-1610730000@asociacionsolc.com
SUMMARY:Solc recibe la subvención de 2409\,27€ de la ayuda con cargo al 0\,7 de IRPF por parte de Conselleria igualdad
DESCRIPTION:El programa «atención multidisciplinar al paciente oncológico y su familia» recibe la cantidad de 2409\,27€ por parte de la Conselleria de igualdad y políticas inclusivas por la que se conceden ayudas dirigidas a la realización de programas de interés general para atender a fines de carácter social con cargo al tramo autonómico de la asignación tributaria del 0’7% del IRPF. Muchas gracias por el apoyo recibido
URL:https://asociacionsolc.com/evento/solc-recibe-la-subvencion-de-240927e-de-la-ayuda-con-cargo-al-07-de-irpf-por-parte-de-conselleria-igualdad/
END:VEVENT
BEGIN:VEVENT
DTSTART;VALUE=DATE:20201104
DTEND;VALUE=DATE:20201203
DTSTAMP:20260421T105713
CREATED:20201106T105827Z
LAST-MODIFIED:20201106T110925Z
UID:12814-1604448000-1606953599@asociacionsolc.com
SUMMARY:Tallers per Solc " Salut i benestar MIMA'T" patrocinats per l'Ajuntament Cocentaina
DESCRIPTION:
URL:https://asociacionsolc.com/evento/tallers-per-solc-salut-i-benestar-mimat-patrocinats-per-lajuntament-cocentaina/
END:VEVENT
BEGIN:VEVENT
DTSTART;TZID=UTC:20201019T080000
DTEND;TZID=UTC:20201019T170000
DTSTAMP:20260421T105713
CREATED:20210113T112458Z
LAST-MODIFIED:20210113T112458Z
UID:12853-1603094400-1603126800@asociacionsolc.com
SUMMARY:PROGRAMA "ATENCIÓN PSICOSOCIAL INDIVIDUAL Y GRUPAL EN MUJERES AFECTADAS POR CÁNCER" CUENTA CON EL APOYO DE CONSELLERIA DE IGUALDAD Y POLÍTICAS INCLUSIVAS
DESCRIPTION:La entidad Solc recibe la ayuda de una subvención por importe de 6004 € por parte de la Conselleria de Igualdad y Políticas inclusives para el programa «Intervención psicosocial individual y grupal en mujeres afectadas por cáncer» dentro de la anualidad 2020. \nMuchas gracias \n  \n 
URL:https://asociacionsolc.com/evento/programa-atencion-psicosocial-individual-y-grupal-en-mujeres-afectadas-por-cancer-cuenta-con-el-apoyo-de-conselleria-de-igualdad-y-politicas-inclusivas/
END:VEVENT
BEGIN:VEVENT
DTSTART;TZID=UTC:20201005T080000
DTEND;TZID=UTC:20201005T170000
DTSTAMP:20260421T105713
CREATED:20220421T122240Z
LAST-MODIFIED:20220421T122458Z
UID:13099-1601884800-1601917200@asociacionsolc.com
SUMMARY:Códigos éticos profesionales Solc
DESCRIPTION:El personal técnico de la entidad\, basa su práctica profesional en relación a su código ético y deontológico\, aquí se puede consultar el del personal de la psicología\, trabajo social y dietista-nutricionista \n  \ncodigo_deontologico_2012 trabajo social \nCodigo-Deontologico-Consejo-Adaptacion-Ley-Omnibus psicólogos \nCodigo-Deontologico-Vs-2013-final dietistas \n  \n 
URL:https://asociacionsolc.com/evento/codigos-eticos-profesionales-solc/
END:VEVENT
BEGIN:VEVENT
DTSTART;TZID=UTC:20200916T190000
DTEND;TZID=UTC:20200916T200000
DTSTAMP:20260421T105713
CREATED:20200915T110638Z
LAST-MODIFIED:20200915T111617Z
UID:12788-1600282800-1600286400@asociacionsolc.com
SUMMARY:¡¡ Presentación calendario solidario 2021!!Miércoles 16 a las 19H Sala Ágora\, Alcoy. Aforo limitado\, inscripción previa
DESCRIPTION:Gracias a Generali Seguros\, Mónica Ruiz y la Federación de bandas de música\, L’Alcoià- Comtat por hacerlo posible \n 
URL:https://asociacionsolc.com/evento/presentacion-calendario-solidario-2021miercoles-16-a-las-19h-sala-agora-alcoy-aforo-limitado-inscripcion-previa/
LOCATION:Sala Ágora Alcoy
END:VEVENT
BEGIN:VEVENT
DTSTART;TZID=UTC:20200915T080000
DTEND;TZID=UTC:20200915T170000
DTSTAMP:20260421T105713
CREATED:20200915T105728Z
LAST-MODIFIED:20200915T105728Z
UID:12785-1600156800-1600189200@asociacionsolc.com
SUMMARY:¡¡ Presentación calendario 2021!! Miércoles 16 a las 19h Sala Ágora Alcoy. Inscripción previa 965545053
DESCRIPTION:¡¡Tenemos el placer de anunciar que mañana presentamos el calendario 2021!! A las 19h en Sala Ágora\, Alcoy \nAforo limitado\, inscripción previa a los teléfonos 965545053 / 625817685 \nGracias a Generali Seguros y a Mónica Ruiz por hacerlo posible. \n  \n 
URL:https://asociacionsolc.com/evento/presentacion-calendario-2021-miercoles-16-a-las-19h-sala-agora-alcoy-inscripcion-previa-965545053/
END:VEVENT
BEGIN:VEVENT
DTSTART;TZID=UTC:20200727T080000
DTEND;TZID=UTC:20200727T170000
DTSTAMP:20260421T105713
CREATED:20210714T091107Z
LAST-MODIFIED:20210714T091206Z
UID:12965-1595836800-1595869200@asociacionsolc.com
SUMMARY:Solc firma un acuerdo de colaboración con AITEX\, asociación de investigación de la industria textil
DESCRIPTION:La aportación económica que realizará Aitex por el acuerdo correspondiente al proyecto » Mejorar la calidad de vida en la enfermedad del cáncer» asciende a 7928’85€. \nEl acuerdo tiene una vigencia de un año\, iniciándose el 30 de julio de 2020\, finalizando el 30 de julio de 2021 \nLa entidad muestra su agradecimiento a la empresa por tal reconocimiento\, ayudando así a la entidad a seguir con sus objetivos de ayuda al enfermo y familiar oncológico \n.
URL:https://asociacionsolc.com/evento/solc-firma-un-acuerdo-de-colaboracion-con-aitex-asociacion-de-investigacion-de-la-industria-textil/
END:VEVENT
BEGIN:VEVENT
DTSTART;TZID=UTC:20200715T080000
DTEND;TZID=UTC:20200715T170000
DTSTAMP:20260421T105713
CREATED:20200715T091821Z
LAST-MODIFIED:20200715T091821Z
UID:12781-1594800000-1594832400@asociacionsolc.com
SUMMARY:XII Jornada de Oncología: Creciendo ante las adversidades
DESCRIPTION:Un año más os esperamos\, esta vez en la modalidad on-line\, entra en este enlace;  http://web.ua.es/seus/online \n  \n 
URL:https://asociacionsolc.com/evento/xii-jornada-de-oncologia-creciendo-ante-las-adversidades/
END:VEVENT
BEGIN:VEVENT
DTSTART;TZID=UTC:20200409T080000
DTEND;TZID=UTC:20200409T170000
DTSTAMP:20260421T105713
CREATED:20200409T080933Z
LAST-MODIFIED:20200409T081704Z
UID:12637-1586419200-1586451600@asociacionsolc.com
SUMMARY:Necessitats vitamíniques per Joan Pérez\, nutricioniste de Solc
DESCRIPTION:Avuí vos deixem amb l’article de Joan Pérez \, nutricioniste de Solc  «Necessitats vitamíniques» . \nMolt important aquesta informació per a desmitificar algunes idees falses \n  \nVitamines (2) \n#Solcestacontigo
URL:https://asociacionsolc.com/evento/necessitats-vitaminiques-per-joan-perez-nutricioniste-de-solc/
END:VEVENT
BEGIN:VEVENT
DTSTART;TZID=UTC:20200315T180000
DTEND;TZID=UTC:20200315T200000
DTSTAMP:20260421T105713
CREATED:20200225T124413Z
LAST-MODIFIED:20200225T124457Z
UID:12560-1584295200-1584302400@asociacionsolc.com
SUMMARY:Gala solidaria 2020\, Asociación Santa Gema Ibi "Caminando con todos" caminando con.... Solc
DESCRIPTION:
URL:https://asociacionsolc.com/evento/gala-solidaria-2020-asociacion-santa-gema-ibi-caminando-con-todos-caminando-con-solc/
LOCATION:teatro rio ibi
END:VEVENT
BEGIN:VEVENT
DTSTART;TZID=UTC:20200314T193000
DTEND;TZID=UTC:20200314T213000
DTSTAMP:20260421T105713
CREATED:20200225T124836Z
LAST-MODIFIED:20200225T124836Z
UID:12565-1584214200-1584221400@asociacionsolc.com
SUMMARY:Ampa Rock 2020\, en recuerdo a Amparo Jareño- La mujer Barbuda\, Alcoy\, 14 de marzo
DESCRIPTION:
URL:https://asociacionsolc.com/evento/ampa-rock-2020-en-recuerdo-a-amparo-jareno-la-mujer-barbuda-alcoy-14-de-marzo/
END:VEVENT
BEGIN:VEVENT
DTSTART;TZID=UTC:20200314T190000
DTEND;TZID=UTC:20200314T200000
DTSTAMP:20260421T105713
CREATED:20200225T125111Z
LAST-MODIFIED:20200225T125204Z
UID:12568-1584212400-1584216000@asociacionsolc.com
SUMMARY:Caminem junts. Concierto Dani Miquel\, El Teular\, Cocentaina\, 14 de marzo a las 19h
DESCRIPTION:
URL:https://asociacionsolc.com/evento/caminem-junts-concierto-dani-miquel-el-teular-cocentaina-14-de-marzo-a-las-19h/
END:VEVENT
BEGIN:VEVENT
DTSTART;TZID=UTC:20200203T080000
DTEND;TZID=UTC:20200204T170000
DTSTAMP:20260421T105713
CREATED:20200131T133201Z
LAST-MODIFIED:20200131T133633Z
UID:12556-1580716800-1580835600@asociacionsolc.com
SUMMARY:Día Mundial cáncer
DESCRIPTION:Solc celebra el día mundial del cáncer y para dar información y visibilidad a la enfermedad\, colocará una mesa el lunes 3 de febrero en el Mercado central de Ibi y una el martes 4 de febrero en Alcoy en Mercadona de Santa Rosa\, ambas en horario de mañana. \n¡Os esperamos! \n 
URL:https://asociacionsolc.com/evento/dia-mundial-cancer/
END:VEVENT
BEGIN:VEVENT
DTSTART;TZID=UTC:20200127T093000
DTEND;TZID=UTC:20200127T213000
DTSTAMP:20260421T105714
CREATED:20210127T085855Z
LAST-MODIFIED:20210127T085915Z
UID:12863-1580117400-1580160600@asociacionsolc.com
SUMMARY:Solc recibe de Conselleria de Igualdad y Políticas inclusivas 4.013\,35€ por el programa "Atención multidisciplinar al paciente oncológico y su familia"
DESCRIPTION:El programa «Atención multidisciplinar al paciente oncológico y su familia» recibe la cantidad de 4013\,35€ por parte de la Conselleria de Inclusión y Políticas inclusivas para la concesión de subvenciones dirigidas a la realización de programas de interés general para atender a fines de carácter social con cargo al tramo autonómico de la asignación tributaria del 0\,7 por 100 del Impuesto sobre la Renta de las Personas \n 
URL:https://asociacionsolc.com/evento/solc-recibe-de-conselleria-de-igualdad-y-politicas-inclusivas-4-01335e-por-el-programa-atencion-multidisciplinar-al-paciente-oncologico-y-su-familia/
END:VEVENT
BEGIN:VEVENT
DTSTART;TZID=UTC:20200125T190000
DTEND;TZID=UTC:20200125T210000
DTSTAMP:20260421T105714
CREATED:20200113T125414Z
LAST-MODIFIED:20200113T125414Z
UID:12531-1579978800-1579986000@asociacionsolc.com
SUMMARY:"Recordando las mariposas" teatro benéfico compañía Amor discos
DESCRIPTION:El próximo 25 de enero a las 19h te esperamos en el Centro Cultural  Polivalent de Muro con el teatro benéfico de la compañía Amor discos\, «Recordando las mariposas»
URL:https://asociacionsolc.com/evento/recordando-las-mariposas-teatro-benefico-compania-amor-discos/
LOCATION:Centro Cultural polivalente Muro
END:VEVENT
BEGIN:VEVENT
DTSTART;TZID=UTC:20200107T080000
DTEND;TZID=UTC:20200107T170000
DTSTAMP:20260421T105714
CREATED:20201106T104857Z
LAST-MODIFIED:20201106T113959Z
UID:12805-1578384000-1578416400@asociacionsolc.com
SUMMARY:II edición concurso de relatos cortos "tu historia nos da vida"
DESCRIPTION:Solc lanza la II Edición del concurso de relatos cortos «tu historia nos da vida» hasta el 6 de abril puedes presentar tu relato en categoría júnior o senior\, adjuntamos las bases \n  \n¡¡Anímate\, participa en este bonito evento!! \n  \n 
URL:https://asociacionsolc.com/evento/ii-edicion-concurso-de-relatos-cortos-tu-historia-nos-da-vida/
END:VEVENT
BEGIN:VEVENT
DTSTART;TZID=UTC:20191228T180000
DTEND;TZID=UTC:20191228T200000
DTSTAMP:20260421T105714
CREATED:20191204T111410Z
LAST-MODIFIED:20191204T111438Z
UID:12524-1577556000-1577563200@asociacionsolc.com
SUMMARY:Gala benéfica a cargo de Ritu Martínez. Muro 28 de diciembre.
DESCRIPTION:Próxima gala benéfica a cargo de Ritu Martínez y sus colaboradores\, el día 28 de diciembre a las 18h en el Centre Cultural de la localidad de Muro. ¡¡No te quedes sin tu entrada!!
URL:https://asociacionsolc.com/evento/gala-benefica-a-cargo-de-ritu-martinez-muro-28-de-diciembre/
END:VEVENT
BEGIN:VEVENT
DTSTART;TZID=UTC:20191214T110000
DTEND;TZID=UTC:20191214T110000
DTSTAMP:20260421T105714
CREATED:20191204T110618Z
LAST-MODIFIED:20191204T110635Z
UID:12516-1576321200-1576321200@asociacionsolc.com
SUMMARY:Almuerzo popular y tómbola benéfica 14 diciembre a las 11h Centre Social Planes
DESCRIPTION:El próximo sábado 14 de diciembre a las 11h tendremos en el Centre Social de Planes un almuerzo popular y tómbola solidaria que han organizado la Asociación Intercultural Travadell para nuestra entidad\, en colaboración con las amas de casa de dicha localidad- \n  \n¡Abierto a todo el público\, pasaremos una mañana muy amena!
URL:https://asociacionsolc.com/evento/almuerzo-popular-y-tombola-benefica-14-diciembre-a-las-11h-centre-social-planes/
LOCATION:Centro Social Planes
END:VEVENT
BEGIN:VEVENT
DTSTART;VALUE=DATE:20191213
DTEND;VALUE=DATE:20191216
DTSTAMP:20260421T105714
CREATED:20191204T111038Z
LAST-MODIFIED:20191204T111108Z
UID:12521-1576195200-1576454399@asociacionsolc.com
SUMMARY:Participación en el mercado de los Reyes Magos 13\, 14 y 15 diciembre\, Ibi
DESCRIPTION:Solc estará los días 13\, 14 y 15 de diciembre en el Mercado de los Reyes Magos de Ibi\, ofreciendo información y vendiendo productos hechos en el grupo de manualidades. ¡Te esperamos!
URL:https://asociacionsolc.com/evento/participacion-en-el-mercado-de-los-reyes-magos-13-14-y-15-diciembre-ibi/
END:VEVENT
BEGIN:VEVENT
DTSTART;TZID=UTC:20191125T080000
DTEND;TZID=UTC:20191125T170000
DTSTAMP:20260421T105714
CREATED:20191126T125403Z
LAST-MODIFIED:20191210T110830Z
UID:12512-1574668800-1574701200@asociacionsolc.com
SUMMARY:" Apoyo psicosocial al entorno familiar" con la colaboración de Red Solidaria 2019 Bankia en.accion
DESCRIPTION:Solc cuenta con el apoyo de Red Solidaria 2019 en acción.bankia para el proyecto «Apoyo psicosocial al entorno familiar»  con una ayuda de 1000€. No hay que olvidar que los familiares son el apoyo fundamental de las personas que están atravesando un proceso de enfermedad\, de ahí que cuenten con recursos que les ayuden a gestionar sus emociones y en la relación con las personas enfermas.
URL:https://asociacionsolc.com/evento/apoyo-psicosocial-al-entorno-familiar-con-la-colaboracion-de-red-solidaria-2019-bankia-en-accion/
END:VEVENT
BEGIN:VEVENT
DTSTART;VALUE=DATE:20191005
DTEND;VALUE=DATE:20191006
DTSTAMP:20260421T105714
CREATED:20190910T130155Z
LAST-MODIFIED:20190910T130155Z
UID:12470-1570233600-1570319999@asociacionsolc.com
SUMMARY:II Duatló Cross Ciutat d'Alcoi. Evento solidario
DESCRIPTION:Próximo 5 de octubre en Alcoy\, evento solidario\, más información en www.cronometrate.com
URL:https://asociacionsolc.com/evento/ii-duatlo-cross-ciutat-dalcoi-evento-solidario/
END:VEVENT
BEGIN:VEVENT
DTSTART;VALUE=DATE:20190928
DTEND;VALUE=DATE:20190929
DTSTAMP:20260421T105714
CREATED:20190912T091842Z
LAST-MODIFIED:20190925T125332Z
UID:12473-1569628800-1569715199@asociacionsolc.com
SUMMARY:Viaje a Villajoyosa\, en colaboración con la Diputación de Alicante
DESCRIPTION:¿Quieres pasar un día divertido?Sí eres socio y/o usuario de Solc\, te esperamos el próximo día 21 de septiembre para irnos a la Villajoyosa\, visitaremos la Fábrica de Chocolates Pérez y Vilamuseo. Llama y apúntate\, así te informamos con detalle\, los teléfonos son: 965545053 / 625817685. Colabora: Diputación de Alicante
URL:https://asociacionsolc.com/evento/viaje-a-villajoyosa-en-colaboracion-con-la-diputacion-de-alicante/
END:VEVENT
BEGIN:VEVENT
DTSTART;TZID=UTC:20190702T093000
DTEND;TZID=UTC:20190702T140000
DTSTAMP:20260421T105714
CREATED:20190621T112111Z
LAST-MODIFIED:20190621T112111Z
UID:12448-1562059800-1562076000@asociacionsolc.com
SUMMARY:XI Jornada de Oncología
DESCRIPTION:El próximo 2 de julio\, celebramos la XI Jornada de Oncología\, en colaboración con la Seu Universitaria de Cocentaina\, Universidad de Alicante\, y la organización +Queuntrail\, inscríbete a través del siguiente enlace; https://cvnet.cpd.ua.es/uaCuestionarios/preguntas.aspx?idcuestionario=35234&idioma=es
URL:https://asociacionsolc.com/evento/xi-jornada-de-oncologia/
END:VEVENT
BEGIN:VEVENT
DTSTART;TZID=UTC:20190607T193000
DTEND;TZID=UTC:20190607T203000
DTSTAMP:20260421T105714
CREATED:20190604T125543Z
LAST-MODIFIED:20190604T125543Z
UID:12444-1559935800-1559939400@asociacionsolc.com
SUMMARY:Entrega de premios I Concurso de relatos cortos "Tú historia nos da vida"
DESCRIPTION:El viernes 7 de junio a las 19:30 en el Salón de Grados de la EPSA\, Alcoy\, entrega de premios del I Concurso de relatos cortos «Tú historia nos da vida» al finalizar vino de honor.
URL:https://asociacionsolc.com/evento/entrega-de-premios-i-concurso-de-relatos-cortos-tu-historia-nos-da-vida/
LOCATION:EPSA
END:VEVENT
BEGIN:VEVENT
DTSTART;TZID=UTC:20190531T040000
DTEND;TZID=UTC:20190601T140000
DTSTAMP:20260421T105714
CREATED:20190523T093738Z
LAST-MODIFIED:20190523T093738Z
UID:12437-1559275200-1559397600@asociacionsolc.com
SUMMARY:Taller El sentido del humor: Un paraguas ante la adversidad por Eduardo Jáuregui
DESCRIPTION:¡¡¡ Infórmate !!
URL:https://asociacionsolc.com/evento/taller-el-sentido-del-humor-un-paraguas-ante-la-adversidad-por-eduardo-jauregui/
LOCATION:EPSA
END:VEVENT
END:VCALENDAR